BEGIN:VCALENDAR
VERSION:2.0
PRODID:-//Plone.org//NONSGML plone.app.event//EN
X-WR-TIMEZONE:Brazil/East
BEGIN:VEVENT
SUMMARY:Reunião Plenária | 25/11/2021
DTSTART;TZID=Brazil/Acre;VALUE=DATE-TIME:20211125T180000
DTSTAMP;VALUE=DATE-TIME:20260420T064059Z
UID:3e8f6d2609b14767b9f2868f220dd1b1@www.pontenova.mg.leg.br
CATEGORIES:Reunião Plenária
CREATED;VALUE=DATE-TIME:20211124T210618Z
DESCRIPTION:Sessão Legislativa | Transmissão AO VIVO pelas redes sociais
  da Câmara!
LAST-MODIFIED;VALUE=DATE-TIME:20211125T153438Z
LOCATION:Plenário João Mayrink
URL:https://www.pontenova.mg.leg.br/institucional/eventos/reuniao-plenaria
 -25-11-2021
END:VEVENT
BEGIN:VTIMEZONE
TZID:Brazil/Acre
X-LIC-LOCATION:Brazil/Acre
BEGIN:STANDARD
DTSTART;VALUE=DATE-TIME:20131109T230000
TZNAME:ACT
TZOFFSETFROM:-0400
TZOFFSETTO:-0500
END:STANDARD
END:VTIMEZONE
END:VCALENDAR
