BEGIN:VCALENDAR
VERSION:2.0
PRODID:-//Plone.org//NONSGML plone.app.event//EN
X-WR-TIMEZONE:Brazil/East
BEGIN:VEVENT
SUMMARY:Reunião Plenária | 18/02/2021
DTSTART;TZID=Brazil/East;VALUE=DATE-TIME:20210218T180000
DTEND;TZID=Brazil/East;VALUE=DATE-TIME:20210218T193000
DTSTAMP;VALUE=DATE-TIME:20260419T225447Z
UID:2c6b1dac14c74293ac1cffe28c17486f@pontenova.mg.leg.br
CATEGORIES:Reunião Plenária
CREATED;VALUE=DATE-TIME:20210216T153904Z
DESCRIPTION:Sessão Legislativa | Transmissão ao vivo pelas redes sociais
  da Câmara
LAST-MODIFIED;VALUE=DATE-TIME:20210218T152454Z
LOCATION:Plenário João Mayrink
URL:https://www.pontenova.mg.leg.br/institucional/eventos/reuniao-plenaria
 -18-02-2021
END:VEVENT
BEGIN:VTIMEZONE
TZID:Brazil/East
X-LIC-LOCATION:Brazil/East
BEGIN:DAYLIGHT
DTSTART;VALUE=DATE-TIME:20201018T010000
TZNAME:BRST
TZOFFSETFROM:-0300
TZOFFSETTO:-0200
END:DAYLIGHT
END:VTIMEZONE
END:VCALENDAR
