BEGIN:VCALENDAR
VERSION:2.0
PRODID:-//Plone.org//NONSGML plone.app.event//EN
X-WR-TIMEZONE:Brazil/East
BEGIN:VEVENT
SUMMARY:Reunião Plenária | 10/04/2023
DTSTART;TZID=Brazil/East;VALUE=DATE-TIME:20230410T180000
DTSTAMP;VALUE=DATE-TIME:20260423T182943Z
UID:c5c735b42f2944d195e371e30128f5f1@www.pontenova.mg.leg.br
CATEGORIES:Reunião Plenária
CREATED;VALUE=DATE-TIME:20230405T205735Z
DESCRIPTION:Transmissão AO VIVO pelo Facebook e YouTube da Câmara!
LAST-MODIFIED;VALUE=DATE-TIME:20230408T143825Z
LOCATION:Plenário João Mayrink
URL:https://www.pontenova.mg.leg.br/institucional/eventos/reuniao-plenaria
 -10-04-2023
END:VEVENT
BEGIN:VTIMEZONE
TZID:Brazil/East
X-LIC-LOCATION:Brazil/East
BEGIN:STANDARD
DTSTART;VALUE=DATE-TIME:20230225T230000
TZNAME:BRT
TZOFFSETFROM:-0200
TZOFFSETTO:-0300
END:STANDARD
END:VTIMEZONE
END:VCALENDAR
