BEGIN:VCALENDAR
VERSION:2.0
PRODID:-//Plone.org//NONSGML plone.app.event//EN
X-WR-TIMEZONE:Brazil/East
BEGIN:VEVENT
SUMMARY:Reunião Plenária | 07/04/2022
DTSTART;TZID=Brazil/East;VALUE=DATE-TIME:20220407T180000
DTSTAMP;VALUE=DATE-TIME:20260421T042324Z
UID:329a269035a644769a3065eeec3f35ce@www.pontenova.mg.leg.br
CATEGORIES:Reunião Plenária
CREATED;VALUE=DATE-TIME:20220407T153542Z
DESCRIPTION:Sessão Legislativa | Transmissão AO VIVO pelas redes sociais
  da Câmara!
LAST-MODIFIED;VALUE=DATE-TIME:20220407T153545Z
LOCATION:Plenário João Mayrink
URL:https://www.pontenova.mg.leg.br/institucional/eventos/reuniao-plenaria
 -07-04-2022
END:VEVENT
BEGIN:VTIMEZONE
TZID:Brazil/East
X-LIC-LOCATION:Brazil/East
BEGIN:STANDARD
DTSTART;VALUE=DATE-TIME:20220219T230000
TZNAME:BRT
TZOFFSETFROM:-0200
TZOFFSETTO:-0300
END:STANDARD
END:VTIMEZONE
END:VCALENDAR
