BEGIN:VCALENDAR
VERSION:2.0
PRODID:-//Plone.org//NONSGML plone.app.event//EN
X-WR-TIMEZONE:Brazil/East
BEGIN:VEVENT
SUMMARY:Reunião Plenária | 07/02/2022
DTSTART;TZID=Brazil/East;VALUE=DATE-TIME:20220207T180000
DTSTAMP;VALUE=DATE-TIME:20260421T174642Z
UID:c700edc1b0aa4cfe984bc92ae14ea4c8@www.pontenova.mg.leg.br
CATEGORIES:Reunião Plenária
CREATED;VALUE=DATE-TIME:20220204T200719Z
DESCRIPTION:Sessão Legislativa | Transmissão AO VIVO pelas redes sociais
  da Câmara!
LAST-MODIFIED;VALUE=DATE-TIME:20220207T151709Z
LOCATION:Plenário João Mayrink
URL:https://www.pontenova.mg.leg.br/institucional/eventos/reuniao-plenaria
 -07-02-2022
END:VEVENT
BEGIN:VTIMEZONE
TZID:Brazil/East
X-LIC-LOCATION:Brazil/East
BEGIN:DAYLIGHT
DTSTART;VALUE=DATE-TIME:20211017T010000
TZNAME:BRST
TZOFFSETFROM:-0300
TZOFFSETTO:-0200
END:DAYLIGHT
END:VTIMEZONE
END:VCALENDAR
