BEGIN:VCALENDAR
VERSION:2.0
PRODID:-//Plone.org//NONSGML plone.app.event//EN
X-WR-TIMEZONE:Brazil/East
BEGIN:VEVENT
SUMMARY:Reunião Plenária | 04/04/2022
DTSTART;TZID=Brazil/East;VALUE=DATE-TIME:20220404T180000
DTSTAMP;VALUE=DATE-TIME:20260421T042328Z
UID:c8b66f3ed8c8450584f19d74c2218b9d@www.pontenova.mg.leg.br
CATEGORIES:Reunião Plenária
CREATED;VALUE=DATE-TIME:20220401T203429Z
DESCRIPTION:Sessão Legislativa | Transmissão AO VIVO pelas redes sociais
  da Câmara!
LAST-MODIFIED;VALUE=DATE-TIME:20220404T151511Z
LOCATION:Plenário João Mayrink
URL:https://www.pontenova.mg.leg.br/institucional/eventos/reuniao-plenaria
 -04-04-2022
END:VEVENT
BEGIN:VTIMEZONE
TZID:Brazil/East
X-LIC-LOCATION:Brazil/East
BEGIN:STANDARD
DTSTART;VALUE=DATE-TIME:20220219T230000
TZNAME:BRT
TZOFFSETFROM:-0200
TZOFFSETTO:-0300
END:STANDARD
END:VTIMEZONE
END:VCALENDAR
