BEGIN:VCALENDAR
VERSION:2.0
PRODID:-//Plone.org//NONSGML plone.app.event//EN
X-WR-TIMEZONE:Brazil/East
BEGIN:VEVENT
SUMMARY:Reunião Extraordinária do dia 07/12/2020
DTSTART;TZID=Brazil/East;VALUE=DATE-TIME:20201207T173000
DTEND;TZID=Brazil/East;VALUE=DATE-TIME:20201207T183000
DTSTAMP;VALUE=DATE-TIME:20260420T213112Z
UID:4c464f1d018b41ef8c3bc3168ecc0ef1@pontenova.mg.leg.br
CATEGORIES:Reunião Extraordinária
CREATED;VALUE=DATE-TIME:20201204T151623Z
DESCRIPTION:Sessão Legislativa Extraordinária - Transmissão AO VIVO!
LAST-MODIFIED;VALUE=DATE-TIME:20201207T153104Z
LOCATION:Plenário João Mayrink
URL:https://www.pontenova.mg.leg.br/institucional/eventos/reuniao-extraord
 inaria-do-dia-07-12-2020
END:VEVENT
BEGIN:VTIMEZONE
TZID:Brazil/East
X-LIC-LOCATION:Brazil/East
BEGIN:DAYLIGHT
DTSTART;VALUE=DATE-TIME:20201018T010000
TZNAME:BRST
TZOFFSETFROM:-0300
TZOFFSETTO:-0200
END:DAYLIGHT
END:VTIMEZONE
END:VCALENDAR
