BEGIN:VCALENDAR
VERSION:2.0
PRODID:-//Plone.org//NONSGML plone.app.event//EN
X-WR-TIMEZONE:Brazil/East
BEGIN:VEVENT
SUMMARY:Reunião Extraordinária do dia 05/10/2020
DTSTART;TZID=Brazil/East;VALUE=DATE-TIME:20201005T173000
DTEND;TZID=Brazil/East;VALUE=DATE-TIME:20201005T183000
DTSTAMP;VALUE=DATE-TIME:20260420T213101Z
UID:696d8cd60c1949bbaa52a1c68ebd1b6d@pontenova.mg.leg.br
CATEGORIES:Reunião Extraordinária
CREATED;VALUE=DATE-TIME:20201005T160545Z
LAST-MODIFIED;VALUE=DATE-TIME:20201005T160824Z
LOCATION:Plenário João Mayrink
URL:https://www.pontenova.mg.leg.br/institucional/eventos/reuniao-extraord
 inaria-do-dia-05-10-2020
END:VEVENT
BEGIN:VTIMEZONE
TZID:Brazil/East
X-LIC-LOCATION:Brazil/East
BEGIN:STANDARD
DTSTART;VALUE=DATE-TIME:20200215T230000
TZNAME:BRT
TZOFFSETFROM:-0200
TZOFFSETTO:-0300
END:STANDARD
END:VTIMEZONE
END:VCALENDAR
