BEGIN:VCALENDAR
VERSION:2.0
PRODID:-//Plone.org//NONSGML plone.app.event//EN
X-WR-TIMEZONE:Brazil/East
BEGIN:VEVENT
SUMMARY:Reunião da CSPM | 16/11/2023
DTSTART;TZID=Brazil/East;VALUE=DATE-TIME:20231116T163000
DTSTAMP;VALUE=DATE-TIME:20260422T075844Z
UID:5b1e67544b1a4b99a6e466d4e1d4442e@www.pontenova.mg.leg.br
CATEGORIES:CSPM
CATEGORIES:Reunião de Comissão
CREATED;VALUE=DATE-TIME:20231116T160046Z
DESCRIPTION:Comissão de Serviços Públicos Municipais | Transmissão AO 
 VIVO pelo Facebook e YouTube da Câmara!
LAST-MODIFIED;VALUE=DATE-TIME:20231116T160050Z
LOCATION:Plenário João Mayrink
URL:https://www.pontenova.mg.leg.br/institucional/eventos/reuniao-da-cspm-
 16-11-2023
END:VEVENT
BEGIN:VTIMEZONE
TZID:Brazil/East
X-LIC-LOCATION:Brazil/East
BEGIN:DAYLIGHT
DTSTART;VALUE=DATE-TIME:20231015T010000
TZNAME:BRST
TZOFFSETFROM:-0300
TZOFFSETTO:-0200
END:DAYLIGHT
END:VTIMEZONE
END:VCALENDAR
