BEGIN:VCALENDAR
VERSION:2.0
PRODID:-//Plone.org//NONSGML plone.app.event//EN
X-WR-TIMEZONE:Brazil/East
BEGIN:VEVENT
SUMMARY:Reunião da CPI Covid | 19/11/2021
DTSTART;TZID=Brazil/East;VALUE=DATE-TIME:20211119T160000
DTSTAMP;VALUE=DATE-TIME:20260421T230508Z
UID:25edc9408220493ab4e0b23ca78fb0d3@www.pontenova.mg.leg.br
CATEGORIES:CPI Covid
CATEGORIES:Covid-19
CREATED;VALUE=DATE-TIME:20211118T221826Z
DESCRIPTION:Transmissão AO VIVO pelas redes sociais da Câmara!
LAST-MODIFIED;VALUE=DATE-TIME:20211118T221840Z
LOCATION:Plenário João Mayrink
URL:https://www.pontenova.mg.leg.br/institucional/eventos/reuniao-da-cpi-c
 ovid-19-11-2021
END:VEVENT
BEGIN:VTIMEZONE
TZID:Brazil/East
X-LIC-LOCATION:Brazil/East
BEGIN:DAYLIGHT
DTSTART;VALUE=DATE-TIME:20211017T010000
TZNAME:BRST
TZOFFSETFROM:-0300
TZOFFSETTO:-0200
END:DAYLIGHT
END:VTIMEZONE
END:VCALENDAR
