BEGIN:VCALENDAR
VERSION:2.0
PRODID:-//Plone.org//NONSGML plone.app.event//EN
X-WR-TIMEZONE:Brazil/East
BEGIN:VEVENT
SUMMARY:Reunião da CPI Covid | 03/12/2021
DTSTART;TZID=Brazil/Acre;VALUE=DATE-TIME:20211203T140000
DTSTAMP;VALUE=DATE-TIME:20260421T083733Z
UID:f84f6168388d46f288b583e5428fd939@www.pontenova.mg.leg.br
CATEGORIES:CPI Covid
CATEGORIES:Covid-19
CREATED;VALUE=DATE-TIME:20211130T210317Z
DESCRIPTION:Transmissão AO VIVO pelas redes sociais da Câmara!
LAST-MODIFIED;VALUE=DATE-TIME:20211130T210320Z
LOCATION:Plenário João Mayrink
URL:https://www.pontenova.mg.leg.br/institucional/eventos/reuniao-da-cpi-c
 ovid-03-12-2021
END:VEVENT
BEGIN:VTIMEZONE
TZID:Brazil/Acre
X-LIC-LOCATION:Brazil/Acre
BEGIN:STANDARD
DTSTART;VALUE=DATE-TIME:20131109T230000
TZNAME:ACT
TZOFFSETFROM:-0400
TZOFFSETTO:-0500
END:STANDARD
END:VTIMEZONE
END:VCALENDAR
