BEGIN:VCALENDAR
VERSION:2.0
PRODID:-//Plone.org//NONSGML plone.app.event//EN
X-WR-TIMEZONE:Brazil/East
BEGIN:VEVENT
SUMMARY:Reunião da Comissão de Cidadania e Direitos Humanos
DTSTART;TZID=Brazil/East;VALUE=DATE-TIME:20201006T143000
DTEND;TZID=Brazil/East;VALUE=DATE-TIME:20201006T153000
DTSTAMP;VALUE=DATE-TIME:20260422T010309Z
UID:dc98c5c57aa140e1a62fbc402b8f4843@pontenova.mg.leg.br
CATEGORIES:Reunião de Comissão
CREATED;VALUE=DATE-TIME:20201005T212432Z
LAST-MODIFIED;VALUE=DATE-TIME:20201005T212458Z
LOCATION:Plenário João Mayrink
URL:https://www.pontenova.mg.leg.br/institucional/eventos/reuniao-da-comis
 sao-de-cidadania-e-direitos-humanos
END:VEVENT
BEGIN:VTIMEZONE
TZID:Brazil/East
X-LIC-LOCATION:Brazil/East
BEGIN:STANDARD
DTSTART;VALUE=DATE-TIME:20200215T230000
TZNAME:BRT
TZOFFSETFROM:-0200
TZOFFSETTO:-0300
END:STANDARD
END:VTIMEZONE
END:VCALENDAR
