BEGIN:VCALENDAR
VERSION:2.0
PRODID:-//Plone.org//NONSGML plone.app.event//EN
X-WR-TIMEZONE:Brazil/East
BEGIN:VEVENT
SUMMARY:Reunião da CFLJ | 29/032022
DTSTART;TZID=Brazil/East;VALUE=DATE-TIME:20220329T143000
DTSTAMP;VALUE=DATE-TIME:20260419T225432Z
UID:d7436fd11d1a44279f6f28ce8bc139ef@www.pontenova.mg.leg.br
CATEGORIES:Reunião de Comissão
CREATED;VALUE=DATE-TIME:20220329T153015Z
DESCRIPTION:Reunião da Comissão de Finanças\, Legislação e Justiça 
LAST-MODIFIED;VALUE=DATE-TIME:20220329T153019Z
LOCATION:Plenário João Mayrink
URL:https://www.pontenova.mg.leg.br/institucional/eventos/reuniao-da-cflj-
 29-032022
END:VEVENT
BEGIN:VTIMEZONE
TZID:Brazil/East
X-LIC-LOCATION:Brazil/East
BEGIN:STANDARD
DTSTART;VALUE=DATE-TIME:20220219T230000
TZNAME:BRT
TZOFFSETFROM:-0200
TZOFFSETTO:-0300
END:STANDARD
END:VTIMEZONE
END:VCALENDAR
