BEGIN:VCALENDAR
VERSION:2.0
PRODID:-//Plone.org//NONSGML plone.app.event//EN
X-WR-TIMEZONE:Brazil/East
BEGIN:VEVENT
SUMMARY:Reunião da CFLJ | 28/02/2023
DTSTART;TZID=Brazil/East;VALUE=DATE-TIME:20230228T143000
DTSTAMP;VALUE=DATE-TIME:20260423T165135Z
UID:29708a1260b74262b360e584fa602426@www.pontenova.mg.leg.br
CATEGORIES:Reunião de Comissão
CREATED;VALUE=DATE-TIME:20230227T201132Z
DESCRIPTION:Reunião da Comissão de Finanças\, Legislação e Justiça |
  Transmissão AO VIVO pelo Facebook e YouTube da Câmara!
LAST-MODIFIED;VALUE=DATE-TIME:20230227T201822Z
LOCATION:Plenário João Mayrink
URL:https://www.pontenova.mg.leg.br/institucional/eventos/reuniao-da-cflj-
 28-02-2023
END:VEVENT
BEGIN:VTIMEZONE
TZID:Brazil/East
X-LIC-LOCATION:Brazil/East
BEGIN:STANDARD
DTSTART;VALUE=DATE-TIME:20230225T230000
TZNAME:BRT
TZOFFSETFROM:-0200
TZOFFSETTO:-0300
END:STANDARD
END:VTIMEZONE
END:VCALENDAR
