BEGIN:VCALENDAR
VERSION:2.0
PRODID:-//Plone.org//NONSGML plone.app.event//EN
X-WR-TIMEZONE:Brazil/East
BEGIN:VEVENT
SUMMARY:Reunião da CFLJ | 22/08/2023
DTSTART;TZID=Brazil/East;VALUE=DATE-TIME:20230822T143000
DTSTAMP;VALUE=DATE-TIME:20260422T145220Z
UID:fe19ee487e974a9c9e744005b93f643e@www.pontenova.mg.leg.br
CATEGORIES:Reunião de Comissão
CATEGORIES:CFLJ
CREATED;VALUE=DATE-TIME:20230821T161034Z
DESCRIPTION:Comissão de Finanças\, Legislação e Justiça | Transmissã
 o AO VIVO pelo Facebook e YouTube da Câmara!
LAST-MODIFIED;VALUE=DATE-TIME:20230821T210029Z
LOCATION:Plenário João Mayrink
URL:https://www.pontenova.mg.leg.br/institucional/eventos/reuniao-da-cflj-
 22-08-2023
END:VEVENT
BEGIN:VTIMEZONE
TZID:Brazil/East
X-LIC-LOCATION:Brazil/East
BEGIN:STANDARD
DTSTART;VALUE=DATE-TIME:20230225T230000
TZNAME:BRT
TZOFFSETFROM:-0200
TZOFFSETTO:-0300
END:STANDARD
END:VTIMEZONE
END:VCALENDAR
