BEGIN:VCALENDAR
VERSION:2.0
PRODID:-//Plone.org//NONSGML plone.app.event//EN
X-WR-TIMEZONE:Brazil/East
BEGIN:VEVENT
SUMMARY:Reunião da CFLJ | 06/02/2024
DTSTART;TZID=Brazil/East;VALUE=DATE-TIME:20240206T143000
DTSTAMP;VALUE=DATE-TIME:20260420T192912Z
UID:2aee47986e224784bbd1fc51827a473f@www.pontenova.mg.leg.br
CATEGORIES:Reunião de Comissão
CATEGORIES:CFLJ
CREATED;VALUE=DATE-TIME:20240205T205328Z
DESCRIPTION:Comissão de Finanças\, Legislação e Justiça | Transmissã
 o AO VIVO pelo Facebook e YouTube da Câmara!
LAST-MODIFIED;VALUE=DATE-TIME:20240205T210655Z
LOCATION:Plenário João Mayrink
URL:https://www.pontenova.mg.leg.br/institucional/eventos/reuniao-da-cflj-
 06-02-2024
END:VEVENT
BEGIN:VTIMEZONE
TZID:Brazil/East
X-LIC-LOCATION:Brazil/East
BEGIN:DAYLIGHT
DTSTART;VALUE=DATE-TIME:20231015T010000
TZNAME:BRST
TZOFFSETFROM:-0300
TZOFFSETTO:-0200
END:DAYLIGHT
END:VTIMEZONE
END:VCALENDAR
