BEGIN:VCALENDAR
VERSION:2.0
PRODID:-//Plone.org//NONSGML plone.app.event//EN
X-WR-TIMEZONE:Brazil/East
BEGIN:VEVENT
SUMMARY:Reunião da CEOP | 13/09/2023
DTSTART;TZID=Brazil/East;VALUE=DATE-TIME:20230913T150000
DTSTAMP;VALUE=DATE-TIME:20260422T230400Z
UID:abf3aec5ef6e45e583abdaafd0e0f5c6@www.pontenova.mg.leg.br
CATEGORIES:Reunião de Comissão
CATEGORIES:CEOP
CREATED;VALUE=DATE-TIME:20230912T211652Z
DESCRIPTION:Comissão Especial de Obras Públicas | Transmissão AO VIVO p
 elo Facebook e YouTube da Câmara!
LAST-MODIFIED;VALUE=DATE-TIME:20230913T154312Z
LOCATION:Plenário João Mayrink
URL:https://www.pontenova.mg.leg.br/institucional/eventos/reuniao-da-ceop-
 13-09-2023
END:VEVENT
BEGIN:VTIMEZONE
TZID:Brazil/East
X-LIC-LOCATION:Brazil/East
BEGIN:STANDARD
DTSTART;VALUE=DATE-TIME:20230225T230000
TZNAME:BRT
TZOFFSETFROM:-0200
TZOFFSETTO:-0300
END:STANDARD
END:VTIMEZONE
END:VCALENDAR
