BEGIN:VCALENDAR
VERSION:2.0
PRODID:-//Plone.org//NONSGML plone.app.event//EN
X-WR-TIMEZONE:Brazil/East
BEGIN:VEVENT
SUMMARY:Reunião da CE Obras Públicas | 26/04/2023
DTSTART;TZID=Brazil/East;VALUE=DATE-TIME:20230426T143000
DTSTAMP;VALUE=DATE-TIME:20260423T165611Z
UID:5060bbc7fb3e453891afe18ebd1f6965@www.pontenova.mg.leg.br
CATEGORIES:Reunião de Comissão
CATEGORIES:CEOP
CREATED;VALUE=DATE-TIME:20230425T205520Z
DESCRIPTION:Comissão Especial de Obras Públicas | Transmissão AO VIVO p
 elo Facebook e YouTube da Câmara!
LAST-MODIFIED;VALUE=DATE-TIME:20230712T160537Z
LOCATION:Plenário João Mayrink
URL:https://www.pontenova.mg.leg.br/institucional/eventos/reuniao-da-ce-ob
 ras-publicas-26-04-2023
END:VEVENT
BEGIN:VTIMEZONE
TZID:Brazil/East
X-LIC-LOCATION:Brazil/East
BEGIN:STANDARD
DTSTART;VALUE=DATE-TIME:20230225T230000
TZNAME:BRT
TZOFFSETFROM:-0200
TZOFFSETTO:-0300
END:STANDARD
END:VTIMEZONE
END:VCALENDAR
