BEGIN:VCALENDAR
VERSION:2.0
PRODID:-//Plone.org//NONSGML plone.app.event//EN
X-WR-TIMEZONE:Brazil/East
BEGIN:VEVENT
SUMMARY:Reunião CPI Covid | 13/09/2021
DTSTART;TZID=Brazil/East;VALUE=DATE-TIME:20210913T140000
DTSTAMP;VALUE=DATE-TIME:20260421T042330Z
UID:4d8a263473404447a0445be6f32a57be@www.pontenova.mg.leg.br
CATEGORIES:CPI Covid
CATEGORIES:Covid-19
CREATED;VALUE=DATE-TIME:20210910T184738Z
DESCRIPTION:Transmissão AO VIVO pelas redes sociais da Câmara!
LAST-MODIFIED;VALUE=DATE-TIME:20210910T184742Z
LOCATION:Plenário João Mayrink
URL:https://www.pontenova.mg.leg.br/institucional/eventos/reuniao-cpi-covi
 d-13-09-2021
END:VEVENT
BEGIN:VTIMEZONE
TZID:Brazil/East
X-LIC-LOCATION:Brazil/East
BEGIN:STANDARD
DTSTART;VALUE=DATE-TIME:20210220T230000
TZNAME:BRT
TZOFFSETFROM:-0200
TZOFFSETTO:-0300
END:STANDARD
END:VTIMEZONE
END:VCALENDAR
