BEGIN:VCALENDAR
VERSION:2.0
PRODID:-//Plone.org//NONSGML plone.app.event//EN
X-WR-TIMEZONE:Brazil/East
BEGIN:VEVENT
SUMMARY:Parlamento Jovem | 30/06/2023
DTSTART;TZID=Brazil/East;VALUE=DATE-TIME:20230630T140000
DTSTAMP;VALUE=DATE-TIME:20260422T075240Z
UID:b8a7c3ba67e34829ad6142cd063aa0f1@www.pontenova.mg.leg.br
CATEGORIES:Parlamento Jovem
CATEGORIES:Escola do Legislativo
CREATED;VALUE=DATE-TIME:20230623T162444Z
DESCRIPTION:Plenária Municipal do Parlamento Jovem 2023
LAST-MODIFIED;VALUE=DATE-TIME:20230623T162454Z
LOCATION:Plenário João Mayrink
URL:https://www.pontenova.mg.leg.br/institucional/eventos/parlamento-jovem
 -30-06-2023
END:VEVENT
BEGIN:VTIMEZONE
TZID:Brazil/East
X-LIC-LOCATION:Brazil/East
BEGIN:STANDARD
DTSTART;VALUE=DATE-TIME:20230225T230000
TZNAME:BRT
TZOFFSETFROM:-0200
TZOFFSETTO:-0300
END:STANDARD
END:VTIMEZONE
END:VCALENDAR
