BEGIN:VCALENDAR
VERSION:2.0
PRODID:-//Plone.org//NONSGML plone.app.event//EN
X-WR-TIMEZONE:Brazil/East
BEGIN:VEVENT
SUMMARY:Parlamento Jovem
DTSTART;TZID=Brazil/East;VALUE=DATE-TIME:20240424T160000
DTSTAMP;VALUE=DATE-TIME:20260420T211825Z
UID:c3131b24baa0432eac549fcbd72bb1cd@www.pontenova.mg.leg.br
CATEGORIES:Parlamento Jovem
CATEGORIES:Escola do Legislativo
CREATED;VALUE=DATE-TIME:20240424T153450Z
DESCRIPTION:4ª oficina do Parlamento Jovem de 2024
LAST-MODIFIED;VALUE=DATE-TIME:20240424T153521Z
LOCATION:Plenário João Mayrink
URL:https://www.pontenova.mg.leg.br/institucional/eventos/parlamento-jovem
 -24-04-2024
END:VEVENT
BEGIN:VTIMEZONE
TZID:Brazil/East
X-LIC-LOCATION:Brazil/East
BEGIN:STANDARD
DTSTART;VALUE=DATE-TIME:20240217T230000
TZNAME:BRT
TZOFFSETFROM:-0200
TZOFFSETTO:-0300
END:STANDARD
END:VTIMEZONE
END:VCALENDAR
