BEGIN:VCALENDAR
VERSION:2.0
PRODID:-//Plone.org//NONSGML plone.app.event//EN
X-WR-TIMEZONE:Brazil/East
BEGIN:VEVENT
SUMMARY:Parlamento Jovem | 16/05/2023
DTSTART;TZID=Brazil/East;VALUE=DATE-TIME:20230516T160000
DTSTAMP;VALUE=DATE-TIME:20260422T210624Z
UID:28e9fbd3b4f44b5a9a95dde19498d5ec@www.pontenova.mg.leg.br
CATEGORIES:Parlamento Jovem
CATEGORIES:Escola do Legislativo
CREATED;VALUE=DATE-TIME:20230516T183007Z
DESCRIPTION:Oficina Temática 
LAST-MODIFIED;VALUE=DATE-TIME:20230516T183011Z
LOCATION:Espaço Multiuso José Silva
URL:https://www.pontenova.mg.leg.br/institucional/eventos/parlamento-jovem
 -16-05-2023
END:VEVENT
BEGIN:VTIMEZONE
TZID:Brazil/East
X-LIC-LOCATION:Brazil/East
BEGIN:STANDARD
DTSTART;VALUE=DATE-TIME:20230225T230000
TZNAME:BRT
TZOFFSETFROM:-0200
TZOFFSETTO:-0300
END:STANDARD
END:VTIMEZONE
END:VCALENDAR
