BEGIN:VCALENDAR
VERSION:2.0
PRODID:-//Plone.org//NONSGML plone.app.event//EN
X-WR-TIMEZONE:Brazil/East
BEGIN:VEVENT
SUMMARY:Parlamento Jovem | 06/06/2023
DTSTART;TZID=Brazil/East;VALUE=DATE-TIME:20230606T160000
DTSTAMP;VALUE=DATE-TIME:20260422T144148Z
UID:ef8e553ba2c04f39b3b76000c0e74b52@www.pontenova.mg.leg.br
CATEGORIES:Parlamento Jovem
CATEGORIES:Escola do Legislativo
CREATED;VALUE=DATE-TIME:20230606T161323Z
DESCRIPTION:Oficina temática
LAST-MODIFIED;VALUE=DATE-TIME:20230606T161327Z
LOCATION:Espaço Multiuso José Silva
URL:https://www.pontenova.mg.leg.br/institucional/eventos/parlamento-jovem
 -06-06-2023
END:VEVENT
BEGIN:VTIMEZONE
TZID:Brazil/East
X-LIC-LOCATION:Brazil/East
BEGIN:STANDARD
DTSTART;VALUE=DATE-TIME:20230225T230000
TZNAME:BRT
TZOFFSETFROM:-0200
TZOFFSETTO:-0300
END:STANDARD
END:VTIMEZONE
END:VCALENDAR
