BEGIN:VCALENDAR
VERSION:2.0
PRODID:-//Plone.org//NONSGML plone.app.event//EN
X-WR-TIMEZONE:Brazil/East
BEGIN:VEVENT
SUMMARY:Parlamento Jovem | 04/08/2023
DTSTART;TZID=Brazil/East;VALUE=DATE-TIME:20230804T130000
DTSTAMP;VALUE=DATE-TIME:20260423T040144Z
UID:66eaebe2a9a24a66bef277127b4cc35e@www.pontenova.mg.leg.br
CATEGORIES:Parlamento Jovem
CATEGORIES:Escola do Legislativo
CREATED;VALUE=DATE-TIME:20230801T165311Z
DESCRIPTION:Plenária Regional do Parlamento Jovem 2023
LAST-MODIFIED;VALUE=DATE-TIME:20230801T165324Z
LOCATION:Plenário João Mayrink
URL:https://www.pontenova.mg.leg.br/institucional/eventos/parlamento-jovem
 -04-08-2023
END:VEVENT
BEGIN:VTIMEZONE
TZID:Brazil/East
X-LIC-LOCATION:Brazil/East
BEGIN:STANDARD
DTSTART;VALUE=DATE-TIME:20230225T230000
TZNAME:BRT
TZOFFSETFROM:-0200
TZOFFSETTO:-0300
END:STANDARD
END:VTIMEZONE
END:VCALENDAR
