BEGIN:VCALENDAR
VERSION:2.0
PRODID:-//Plone.org//NONSGML plone.app.event//EN
X-WR-TIMEZONE:Brazil/East
BEGIN:VEVENT
SUMMARY:Palestra Orçamento Público e Peças Orçamentárias 
DTSTART;TZID=Brazil/East;VALUE=DATE-TIME:20211208T180000
DTSTAMP;VALUE=DATE-TIME:20260423T164855Z
UID:3b6d607718f54849b25ff5388ebae395@www.pontenova.mg.leg.br
CATEGORIES:Escola do Legislativo
CREATED;VALUE=DATE-TIME:20211206T185548Z
DESCRIPTION:Evento da Escola do Legislativo
LAST-MODIFIED;VALUE=DATE-TIME:20211206T185638Z
LOCATION:Plenário João Mayrink e redes sociais
URL:https://www.pontenova.mg.leg.br/institucional/eventos/palestra-orcamen
 to-publico-e-pecas-orcamentarias
END:VEVENT
BEGIN:VTIMEZONE
TZID:Brazil/East
X-LIC-LOCATION:Brazil/East
BEGIN:DAYLIGHT
DTSTART;VALUE=DATE-TIME:20211017T010000
TZNAME:BRST
TZOFFSETFROM:-0300
TZOFFSETTO:-0200
END:DAYLIGHT
END:VTIMEZONE
END:VCALENDAR
