BEGIN:VCALENDAR
VERSION:2.0
PRODID:-//Plone.org//NONSGML plone.app.event//EN
X-WR-TIMEZONE:Brazil/East
BEGIN:VEVENT
SUMMARY:Mérito Legislativo 2023
DTSTART;TZID=Brazil/East;VALUE=DATE-TIME:20230825T190000
DTSTAMP;VALUE=DATE-TIME:20260422T143918Z
UID:6032b7380a4244e5b59a2a0a34134396@www.pontenova.mg.leg.br
CATEGORIES:Sessão Solene
CATEGORIES:Mérito Legislativo
CREATED;VALUE=DATE-TIME:20230821T161516Z
DESCRIPTION:Sessão Solene de entrega dos diplomas do Mérito Legislativo 
 aos homenageados de 2023 | Transmissão AO VIVO pelo Facebook e YouTube da
  Câmara!
LAST-MODIFIED;VALUE=DATE-TIME:20230821T161849Z
LOCATION:Plenário João Mayrink
URL:https://www.pontenova.mg.leg.br/institucional/eventos/merito-legislati
 vo-2023
END:VEVENT
BEGIN:VTIMEZONE
TZID:Brazil/East
X-LIC-LOCATION:Brazil/East
BEGIN:STANDARD
DTSTART;VALUE=DATE-TIME:20230225T230000
TZNAME:BRT
TZOFFSETFROM:-0200
TZOFFSETTO:-0300
END:STANDARD
END:VTIMEZONE
END:VCALENDAR
