BEGIN:VCALENDAR
VERSION:2.0
PRODID:-//Plone.org//NONSGML plone.app.event//EN
X-WR-TIMEZONE:Brazil/East
BEGIN:VEVENT
SUMMARY:Mérito Legislativo 2021
DTSTART;TZID=Brazil/East;VALUE=DATE-TIME:20210924T190000
DTSTAMP;VALUE=DATE-TIME:20260419T111652Z
UID:213efeddbe304d019a44a1056d99560c@www.pontenova.mg.leg.br
CATEGORIES:Sessão Solene
CATEGORIES:Mérito Legislativo
CREATED;VALUE=DATE-TIME:20210922T204218Z
DESCRIPTION:Sessão Solene
LAST-MODIFIED;VALUE=DATE-TIME:20210924T211428Z
LOCATION:Plenário João Mayrink
URL:https://www.pontenova.mg.leg.br/institucional/eventos/merito-legislati
 vo-2021
END:VEVENT
BEGIN:VTIMEZONE
TZID:Brazil/East
X-LIC-LOCATION:Brazil/East
BEGIN:STANDARD
DTSTART;VALUE=DATE-TIME:20210220T230000
TZNAME:BRT
TZOFFSETFROM:-0200
TZOFFSETTO:-0300
END:STANDARD
END:VTIMEZONE
END:VCALENDAR
