BEGIN:VCALENDAR
VERSION:2.0
PRODID:-//Plone.org//NONSGML plone.app.event//EN
X-WR-TIMEZONE:Brazil/East
BEGIN:VEVENT
SUMMARY:Lançamento do Parlamento Jovem 
DTSTART;TZID=Brazil/East;VALUE=DATE-TIME:20210413T183000
DTEND;TZID=Brazil/East;VALUE=DATE-TIME:20210413T200000
DTSTAMP;VALUE=DATE-TIME:20260420T181245Z
UID:a3904a53d7434c51969df1ea81a929a1@pontenova.mg.leg.br
CATEGORIES:Parlamento Jovem
CATEGORIES:Escola do Legislativo
CREATED;VALUE=DATE-TIME:20210410T001224Z
DESCRIPTION:Live de lançamento do Parlamento Jovem 2021 | Transmissão AO
  VIVO pelas redes sociais da Câmara!
LAST-MODIFIED;VALUE=DATE-TIME:20210410T001346Z
LOCATION:Videoconferência
URL:https://www.pontenova.mg.leg.br/institucional/eventos/lancamento-do-pa
 rlamento-jovem
END:VEVENT
BEGIN:VTIMEZONE
TZID:Brazil/East
X-LIC-LOCATION:Brazil/East
BEGIN:STANDARD
DTSTART;VALUE=DATE-TIME:20210220T230000
TZNAME:BRT
TZOFFSETFROM:-0200
TZOFFSETTO:-0300
END:STANDARD
END:VTIMEZONE
END:VCALENDAR
