BEGIN:VCALENDAR
VERSION:2.0
PRODID:-//Plone.org//NONSGML plone.app.event//EN
X-WR-TIMEZONE:Brazil/East
BEGIN:VEVENT
SUMMARY:Gincana "Sua casa\, nossa Câmara!" 2024
DTSTART;TZID=Brazil/East;VALUE=DATE-TIME:20241220T183000
DTSTAMP;VALUE=DATE-TIME:20260421T103435Z
UID:1f12c8d0cecc427590985216b538f923@www.pontenova.mg.leg.br
CATEGORIES:Escola do Legislativo
CATEGORIES:Gincana Sua Casa\, Nossa Câmara
CREATED;VALUE=DATE-TIME:20241209T170459Z
DESCRIPTION:Cerimônia de encerramento e de premiação dos vencedores | T
 ransmissão AO VIVO pelo Facebook e YouTube da Câmara!
LAST-MODIFIED;VALUE=DATE-TIME:20241209T204551Z
LOCATION:Plenário João Mayrink
URL:https://www.pontenova.mg.leg.br/institucional/eventos/gincana-sua-casa
 -nossa-camara-2024-1
END:VEVENT
BEGIN:VTIMEZONE
TZID:Brazil/East
X-LIC-LOCATION:Brazil/East
BEGIN:DAYLIGHT
DTSTART;VALUE=DATE-TIME:20241020T010000
TZNAME:BRST
TZOFFSETFROM:-0300
TZOFFSETTO:-0200
END:DAYLIGHT
END:VTIMEZONE
END:VCALENDAR
