BEGIN:VCALENDAR
VERSION:2.0
PRODID:-//Plone.org//NONSGML plone.app.event//EN
X-WR-TIMEZONE:Brazil/East
BEGIN:VEVENT
SUMMARY:Fim da Consulta Pública PLL nº 15/2022
DTSTART;VALUE=DATE:20220912
DTEND;VALUE=DATE:20220913
DTSTAMP;VALUE=DATE-TIME:20260423T182735Z
UID:352981b0203c4ac784bc286963b6b7b5@www.pontenova.mg.leg.br
CATEGORIES:Consulta Pública
CATEGORIES:PLL 15/2022
CREATED;VALUE=DATE-TIME:20220908T152721Z
DESCRIPTION:Último dia da Consulta Pública sobre o Projeto de Lei do Leg
 islativo nº 15/2022
LAST-MODIFIED;VALUE=DATE-TIME:20220908T152749Z
URL:https://www.pontenova.mg.leg.br/institucional/eventos/fim-da-consulta-
 publica-pll-no-15-2022
END:VEVENT
END:VCALENDAR
