BEGIN:VCALENDAR
VERSION:2.0
PRODID:-//Plone.org//NONSGML plone.app.event//EN
X-WR-TIMEZONE:Brazil/East
BEGIN:VEVENT
SUMMARY:Encontros Com a Política | 01/04/2022
DTSTART;TZID=Brazil/East;VALUE=DATE-TIME:20220401T140000
DTSTAMP;VALUE=DATE-TIME:20260421T174514Z
UID:c2c00f00d3e3431a96516b9ef52242aa@www.pontenova.mg.leg.br
ATTENDEE;CN="Alexandre Bossi - Consultor e professor da Escola do Legislat
 ivo da ALMG, Doutor em Contabilidade e Finanças, mestre em Contabilidade 
 Internacional e especialista em Contabilidade Pública";ROLE=REQ-PARTICIPA
 NT:Alexandre Bossi - Consultor e professor da Escola do Legislativo da ALM
 G, Doutor em Contabilidade e Finanças, mestre em Contabilidade Internacio
 nal e especialista em Contabilidade Pública
CATEGORIES:Escola do Legislativo
CREATED;VALUE=DATE-TIME:20220331T153036Z
DESCRIPTION: “Ética\, Controle e Transparência na Administração Púb
 lica”
LAST-MODIFIED;VALUE=DATE-TIME:20220331T153044Z
LOCATION:Plenário João Mayrink e videoconferência
URL:https://www.pontenova.mg.leg.br/institucional/eventos/encontros-com-a-
 politica-01-04-2022
END:VEVENT
BEGIN:VTIMEZONE
TZID:Brazil/East
X-LIC-LOCATION:Brazil/East
BEGIN:STANDARD
DTSTART;VALUE=DATE-TIME:20220219T230000
TZNAME:BRT
TZOFFSETFROM:-0200
TZOFFSETTO:-0300
END:STANDARD
END:VTIMEZONE
END:VCALENDAR
