BEGIN:VCALENDAR
VERSION:2.0
PRODID:-//Plone.org//NONSGML plone.app.event//EN
X-WR-TIMEZONE:Brazil/East
BEGIN:VEVENT
SUMMARY:Encerramento das inscrições - Parlamento Jovem
DTSTART;VALUE=DATE:20210407
DTEND;VALUE=DATE:20210408
DTSTAMP;VALUE=DATE-TIME:20260420T113509Z
UID:b67cebe5f42644938f5964d7d5b7ca15@pontenova.mg.leg.br
CATEGORIES:Parlamento Jovem
CATEGORIES:Escola do Legislativo
CREATED;VALUE=DATE-TIME:20210401T195007Z
DESCRIPTION:Último dia para a adesão de instituições de ensino ao Parl
 amento Jovem 2021
LAST-MODIFIED;VALUE=DATE-TIME:20210401T195020Z
URL:https://www.pontenova.mg.leg.br/institucional/eventos/encerramento-das
 -inscricoes-parlamento-jovem
END:VEVENT
END:VCALENDAR
