BEGIN:VCALENDAR
VERSION:2.0
PRODID:-//Plone.org//NONSGML plone.app.event//EN
X-WR-TIMEZONE:Brazil/East
BEGIN:VEVENT
SUMMARY:Câmara Itinerante | 04/06/2022
DTSTART;TZID=Brazil/East;VALUE=DATE-TIME:20220604T093000
DTSTAMP;VALUE=DATE-TIME:20260421T162732Z
UID:706eaa82f6094032af71017d4758c8b4@www.pontenova.mg.leg.br
CATEGORIES:Câmara Itinerante
CREATED;VALUE=DATE-TIME:20220527T212514Z
DESCRIPTION:Projeto Câmara Itinerante
LAST-MODIFIED;VALUE=DATE-TIME:20220606T151758Z
LOCATION:Praça Cid Martins Soares 
URL:https://www.pontenova.mg.leg.br/institucional/eventos/camara-itinerant
 e-04-06-2022
END:VEVENT
BEGIN:VTIMEZONE
TZID:Brazil/East
X-LIC-LOCATION:Brazil/East
BEGIN:STANDARD
DTSTART;VALUE=DATE-TIME:20220219T230000
TZNAME:BRT
TZOFFSETFROM:-0200
TZOFFSETTO:-0300
END:STANDARD
END:VTIMEZONE
END:VCALENDAR
