BEGIN:VCALENDAR
VERSION:2.0
PRODID:-//Plone.org//NONSGML plone.app.event//EN
X-WR-TIMEZONE:Brazil/East
BEGIN:VEVENT
SUMMARY:9ª Reunião Ordinária da CSPM
DTSTART;TZID=Brazil/East;VALUE=DATE-TIME:20240606T160000
DTSTAMP;VALUE=DATE-TIME:20260420T212247Z
UID:e8e78c879eeb414aaec73aa446cec68a@www.pontenova.mg.leg.br
CATEGORIES:CSPM
CATEGORIES:Reunião de Comissão
CREATED;VALUE=DATE-TIME:20240605T165843Z
DESCRIPTION:Transmissão AO VIVO pelo Facebook e YouTube da Câmara!
LAST-MODIFIED;VALUE=DATE-TIME:20240605T165846Z
LOCATION:Plenário João Mayrink
URL:https://www.pontenova.mg.leg.br/institucional/eventos/9a-reuniao-ordin
 aria-da-cspm
END:VEVENT
BEGIN:VTIMEZONE
TZID:Brazil/East
X-LIC-LOCATION:Brazil/East
BEGIN:STANDARD
DTSTART;VALUE=DATE-TIME:20240217T230000
TZNAME:BRT
TZOFFSETFROM:-0200
TZOFFSETTO:-0300
END:STANDARD
END:VTIMEZONE
END:VCALENDAR
