BEGIN:VCALENDAR
VERSION:2.0
PRODID:-//Plone.org//NONSGML plone.app.event//EN
X-WR-TIMEZONE:Brazil/East
BEGIN:VEVENT
SUMMARY:6ª Reunião Ordinária Móvel 
DTSTART;TZID=Brazil/East;VALUE=DATE-TIME:20260305T180000
DTSTAMP;VALUE=DATE-TIME:20260420T193218Z
UID:9b2a1b9a415d44de9955b23cf245415b@www.pontenova.mg.leg.br
CATEGORIES:Reunião Plenária
CREATED;VALUE=DATE-TIME:20260305T152422Z
LAST-MODIFIED;VALUE=DATE-TIME:20260309T155615Z
LOCATION:Plenário João Mayrink
URL:https://www.pontenova.mg.leg.br/institucional/eventos/6a-reuniao-ordin
 aria-movel-2
END:VEVENT
BEGIN:VTIMEZONE
TZID:Brazil/East
X-LIC-LOCATION:Brazil/East
BEGIN:STANDARD
DTSTART;VALUE=DATE-TIME:20260221T230000
TZNAME:BRT
TZOFFSETFROM:-0200
TZOFFSETTO:-0300
END:STANDARD
END:VTIMEZONE
END:VCALENDAR
