BEGIN:VCALENDAR
VERSION:2.0
PRODID:-//Plone.org//NONSGML plone.app.event//EN
X-WR-TIMEZONE:Brazil/East
BEGIN:VEVENT
SUMMARY:4ª Reunião Ordinária Conjunta de Comissões
DTSTART;TZID=Brazil/East;VALUE=DATE-TIME:20240325T161500
DTSTAMP;VALUE=DATE-TIME:20260419T230132Z
UID:272478ab792c46a1a12c0066d5fc7227@www.pontenova.mg.leg.br
CATEGORIES:Reunião de Comissão
CATEGORIES:CSPM
CATEGORIES:CFLJ
CATEGORIES:COTC
CREATED;VALUE=DATE-TIME:20240322T210727Z
DESCRIPTION:Transmissão AO VIVO pelo Facebook e YouTube da Câmara!
LAST-MODIFIED;VALUE=DATE-TIME:20240322T210730Z
LOCATION:Plenário João Mayrink
URL:https://www.pontenova.mg.leg.br/institucional/eventos/4a-reuniao-ordin
 aria-conjunta-de-comissoes
END:VEVENT
BEGIN:VTIMEZONE
TZID:Brazil/East
X-LIC-LOCATION:Brazil/East
BEGIN:STANDARD
DTSTART;VALUE=DATE-TIME:20240217T230000
TZNAME:BRT
TZOFFSETFROM:-0200
TZOFFSETTO:-0300
END:STANDARD
END:VTIMEZONE
END:VCALENDAR
