BEGIN:VCALENDAR
VERSION:2.0
PRODID:-//Plone.org//NONSGML plone.app.event//EN
X-WR-TIMEZONE:Brazil/East
BEGIN:VEVENT
SUMMARY:3ª Reunião Ordinária da CSPM
DTSTART;TZID=Brazil/East;VALUE=DATE-TIME:20240229T160000
DTSTAMP;VALUE=DATE-TIME:20260420T212216Z
UID:99a1b24b771a480f9a63b73203ea7dec@www.pontenova.mg.leg.br
CATEGORIES:CSPM
CATEGORIES:Reunião de Comissão
CREATED;VALUE=DATE-TIME:20240228T203132Z
DESCRIPTION:Comissão de Serviços Públicos Municipais | Transmissão AO 
 VIVO pelo Facebook e YouTube da Câmara!
LAST-MODIFIED;VALUE=DATE-TIME:20240228T203140Z
LOCATION:Plenário João Mayrink
URL:https://www.pontenova.mg.leg.br/institucional/eventos/3a-reuniao-ordin
 aria-da-cspm
END:VEVENT
BEGIN:VTIMEZONE
TZID:Brazil/East
X-LIC-LOCATION:Brazil/East
BEGIN:STANDARD
DTSTART;VALUE=DATE-TIME:20240217T230000
TZNAME:BRT
TZOFFSETFROM:-0200
TZOFFSETTO:-0300
END:STANDARD
END:VTIMEZONE
END:VCALENDAR
