BEGIN:VCALENDAR
VERSION:2.0
PRODID:-//Plone.org//NONSGML plone.app.event//EN
X-WR-TIMEZONE:Brazil/East
BEGIN:VEVENT
SUMMARY:27ª Reunião Ordinária Móvel 
DTSTART;TZID=Brazil/East;VALUE=DATE-TIME:20240822T180000
DTSTAMP;VALUE=DATE-TIME:20260421T042256Z
UID:df03409259f04374b0f56ff2df494e5d@www.pontenova.mg.leg.br
CATEGORIES:Reunião Plenária
CREATED;VALUE=DATE-TIME:20240821T155440Z
LAST-MODIFIED;VALUE=DATE-TIME:20240822T141219Z
LOCATION:Plenário João Mayrink
URL:https://www.pontenova.mg.leg.br/institucional/eventos/27a-reuniao-ordi
 naria-movel
END:VEVENT
BEGIN:VTIMEZONE
TZID:Brazil/East
X-LIC-LOCATION:Brazil/East
BEGIN:STANDARD
DTSTART;VALUE=DATE-TIME:20240217T230000
TZNAME:BRT
TZOFFSETFROM:-0200
TZOFFSETTO:-0300
END:STANDARD
END:VTIMEZONE
END:VCALENDAR
