BEGIN:VCALENDAR
VERSION:2.0
PRODID:-//Plone.org//NONSGML plone.app.event//EN
X-WR-TIMEZONE:Brazil/East
BEGIN:VEVENT
SUMMARY:13ª Reunião Ordinária Móvel
DTSTART;TZID=Brazil/East;VALUE=DATE-TIME:20240408T150500
DTSTAMP;VALUE=DATE-TIME:20260420T212420Z
UID:d6d7261416564a29a3e4a80073fba169@www.pontenova.mg.leg.br
CATEGORIES:Reunião Plenária
CATEGORIES:PLC 4.058/2024
CREATED;VALUE=DATE-TIME:20240408T173729Z
DESCRIPTION:Transmissão AO VIVO pelo Facebook e YouTube da Câmara!
LAST-MODIFIED;VALUE=DATE-TIME:20240408T181345Z
LOCATION:Plenário João Mayrink
URL:https://www.pontenova.mg.leg.br/institucional/eventos/13a-reuniao-ordi
 naria-movel
END:VEVENT
BEGIN:VTIMEZONE
TZID:Brazil/East
X-LIC-LOCATION:Brazil/East
BEGIN:STANDARD
DTSTART;VALUE=DATE-TIME:20240217T230000
TZNAME:BRT
TZOFFSETFROM:-0200
TZOFFSETTO:-0300
END:STANDARD
END:VTIMEZONE
END:VCALENDAR
