BEGIN:VCALENDAR
VERSION:2.0
PRODID:-//Plone.org//NONSGML plone.app.event//EN
X-WR-TIMEZONE:Brazil/East
BEGIN:VEVENT
SUMMARY:10ª Reunião Ordinária Móvel
DTSTART;TZID=Brazil/East;VALUE=DATE-TIME:20240404T110000
DTSTAMP;VALUE=DATE-TIME:20260421T103655Z
UID:c967bed81f454f5da83ae9d2c752b8e6@www.pontenova.mg.leg.br
CATEGORIES:Reunião Plenária
CREATED;VALUE=DATE-TIME:20240402T181134Z
DESCRIPTION:Transmissão AO VIVO pelo Facebook e YouTube da Câmara!
LAST-MODIFIED;VALUE=DATE-TIME:20240404T165241Z
LOCATION:Plenário João Mayrink
URL:https://www.pontenova.mg.leg.br/institucional/eventos/10a-reuniao-ordi
 naria-movel-1
END:VEVENT
BEGIN:VTIMEZONE
TZID:Brazil/East
X-LIC-LOCATION:Brazil/East
BEGIN:STANDARD
DTSTART;VALUE=DATE-TIME:20240217T230000
TZNAME:BRT
TZOFFSETFROM:-0200
TZOFFSETTO:-0300
END:STANDARD
END:VTIMEZONE
END:VCALENDAR
